Package: HuBMAPR Version: 1.3.1 Command: rm -rf HuBMAPR.buildbin-libdir && mkdir HuBMAPR.buildbin-libdir && F:\biocbuild\bbs-3.22-bioc\R\bin\R.exe CMD INSTALL --build --library=HuBMAPR.buildbin-libdir HuBMAPR_1.3.1.tar.gz StartedAt: 2025-08-15 10:29:05 -0400 (Fri, 15 Aug 2025) EndedAt: 2025-08-15 10:29:28 -0400 (Fri, 15 Aug 2025) EllapsedTime: 23.2 seconds RetCode: 0 Status: OK PackageFile: HuBMAPR_1.3.1.zip PackageFileSize: 1.346 MiB