Package: HilbertVis Version: 1.67.2 Command: /Library/Frameworks/R.framework/Resources/bin/R CMD build --keep-empty-dirs --no-resave-data HilbertVis StartedAt: 2025-10-05 17:23:20 -0400 (Sun, 05 Oct 2025) EndedAt: 2025-10-05 17:23:47 -0400 (Sun, 05 Oct 2025) EllapsedTime: 27.5 seconds RetCode: 0 Status: OK PackageFile: HilbertVis_1.67.2.tar.gz PackageFileSize: 1.206 MiB