Package: HilbertCurve Version: 2.3.0 Command: /Library/Frameworks/R.framework/Resources/bin/R CMD INSTALL HilbertCurve StartedAt: 2025-07-04 15:17:32 -0400 (Fri, 04 Jul 2025) EndedAt: 2025-07-04 15:18:01 -0400 (Fri, 04 Jul 2025) EllapsedTime: 28.7 seconds RetCode: 0 Status: OK