Package: HicAggR Version: 1.5.0 Command: chmod a+r HicAggR -R && F:\biocbuild\bbs-3.22-bioc\R\bin\R.exe CMD build --keep-empty-dirs --no-resave-data HicAggR StartedAt: 2025-07-11 19:35:30 -0400 (Fri, 11 Jul 2025) EndedAt: 2025-07-11 19:42:16 -0400 (Fri, 11 Jul 2025) EllapsedTime: 405.2 seconds RetCode: 0 Status: OK PackageFile: HicAggR_1.5.0.tar.gz PackageFileSize: 3.009 MiB