Package: HiTC Version: 1.53.0 Command: F:\biocbuild\bbs-3.22-bioc\R\bin\R.exe CMD INSTALL HiTC StartedAt: 2025-07-07 16:24:46 -0400 (Mon, 07 Jul 2025) EndedAt: 2025-07-07 16:25:45 -0400 (Mon, 07 Jul 2025) EllapsedTime: 58.9 seconds RetCode: 0 Status: OK