Package: HiTC Version: 1.53.0 Command: F:\biocbuild\bbs-3.22-bioc\R\bin\R.exe CMD check --no-multiarch --install=check:HiTC.install-out.txt --library=F:\biocbuild\bbs-3.22-bioc\R\library --no-vignettes --timings HiTC_1.53.0.tar.gz StartedAt: 2025-07-08 02:54:56 -0400 (Tue, 08 Jul 2025) EndedAt: 2025-07-08 03:00:14 -0400 (Tue, 08 Jul 2025) EllapsedTime: 318.5 seconds RetCode: 0 Status: WARNINGS CheckDir: HiTC.Rcheck Warnings: 1