Package: HiTC Version: 1.53.0 Command: chmod a+r HiTC -R && F:\biocbuild\bbs-3.22-bioc\R\bin\R.exe CMD build --keep-empty-dirs --no-resave-data HiTC StartedAt: 2025-07-07 19:38:56 -0400 (Mon, 07 Jul 2025) EndedAt: 2025-07-07 19:43:38 -0400 (Mon, 07 Jul 2025) EllapsedTime: 281.8 seconds RetCode: 0 Status: OK PackageFile: HiTC_1.53.0.tar.gz PackageFileSize: 2.999 MiB