Package: HiTC Version: 1.53.0 Command: rm -rf HiTC.buildbin-libdir && mkdir HiTC.buildbin-libdir && F:\biocbuild\bbs-3.22-bioc\R\bin\R.exe CMD INSTALL --build --library=HiTC.buildbin-libdir HiTC_1.53.0.tar.gz StartedAt: 2025-07-08 09:07:43 -0400 (Tue, 08 Jul 2025) EndedAt: 2025-07-08 09:08:51 -0400 (Tue, 08 Jul 2025) EllapsedTime: 67.7 seconds RetCode: 0 Status: OK PackageFile: HiTC_1.53.0.zip PackageFileSize: 3.559 MiB