Package: HiCParser Version: 1.1.0 Command: F:\biocbuild\bbs-3.22-bioc\R\bin\R.exe CMD check --no-multiarch --install=check:HiCParser.install-out.txt --library=F:\biocbuild\bbs-3.22-bioc\R\library --no-vignettes --timings HiCParser_1.1.0.tar.gz StartedAt: 2025-07-23 03:03:31 -0400 (Wed, 23 Jul 2025) EndedAt: 2025-07-23 03:07:15 -0400 (Wed, 23 Jul 2025) EllapsedTime: 224.0 seconds RetCode: 0 Status: OK CheckDir: HiCParser.Rcheck Warnings: 0