Package: HiCParser Version: 1.1.0 Command: chmod a+r HiCParser -R && F:\biocbuild\bbs-3.22-bioc\R\bin\R.exe CMD build --keep-empty-dirs --no-resave-data HiCParser StartedAt: 2025-07-22 19:40:07 -0400 (Tue, 22 Jul 2025) EndedAt: 2025-07-22 19:41:09 -0400 (Tue, 22 Jul 2025) EllapsedTime: 62.1 seconds RetCode: 0 Status: OK PackageFile: HiCParser_1.1.0.tar.gz PackageFileSize: 324.8 KiB