Package: HiCParser Version: 1.1.0 Command: rm -rf HiCParser.buildbin-libdir && mkdir HiCParser.buildbin-libdir && F:\biocbuild\bbs-3.22-bioc\R\bin\R.exe CMD INSTALL --build --library=HiCParser.buildbin-libdir HiCParser_1.1.0.tar.gz StartedAt: 2025-07-23 09:18:56 -0400 (Wed, 23 Jul 2025) EndedAt: 2025-07-23 09:19:35 -0400 (Wed, 23 Jul 2025) EllapsedTime: 38.6 seconds RetCode: 0 Status: OK PackageFile: HiCParser_1.1.0.zip PackageFileSize: 767.2 KiB