Package: HiCParser Version: 1.1.0 Command: /Library/Frameworks/R.framework/Resources/bin/R CMD INSTALL HiCParser StartedAt: 2025-07-15 15:11:36 -0400 (Tue, 15 Jul 2025) EndedAt: 2025-07-15 15:11:47 -0400 (Tue, 15 Jul 2025) EllapsedTime: 11.3 seconds RetCode: 0 Status: OK