Package: HiCDOC Version: 1.11.1 Command: /home/biocbuild/R/R/bin/R CMD INSTALL HiCDOC StartedAt: 2025-07-21 20:56:50 -0000 (Mon, 21 Jul 2025) EndedAt: 2025-07-21 20:57:45 -0000 (Mon, 21 Jul 2025) EllapsedTime: 54.5 seconds RetCode: 0 Status: OK