Package: HiCDOC Version: 1.11.1 Command: /home/biocbuild/R/R/bin/R CMD build --keep-empty-dirs --no-resave-data HiCDOC StartedAt: 2025-07-22 00:21:43 -0000 (Tue, 22 Jul 2025) EndedAt: 2025-07-22 00:25:02 -0000 (Tue, 22 Jul 2025) EllapsedTime: 199.0 seconds RetCode: 0 Status: OK PackageFile: HiCDOC_1.11.1.tar.gz PackageFileSize: 2.94 MiB