Package: HiCDOC Version: 1.11.2 Command: chmod a+r HiCDOC -R && F:\biocbuild\bbs-3.22-bioc\R\bin\R.exe CMD build --keep-empty-dirs --no-resave-data HiCDOC StartedAt: 2025-08-14 20:46:51 -0400 (Thu, 14 Aug 2025) EndedAt: 2025-08-14 20:49:53 -0400 (Thu, 14 Aug 2025) EllapsedTime: 182.5 seconds RetCode: 0 Status: OK PackageFile: HiCDOC_1.11.2.tar.gz PackageFileSize: 2.974 MiB