Package: HiCDOC Version: 1.11.2 Command: rm -rf HiCDOC.buildbin-libdir && mkdir HiCDOC.buildbin-libdir && F:\biocbuild\bbs-3.22-bioc\R\bin\R.exe CMD INSTALL --build --library=HiCDOC.buildbin-libdir HiCDOC_1.11.2.tar.gz StartedAt: 2025-08-15 10:27:59 -0400 (Fri, 15 Aug 2025) EndedAt: 2025-08-15 10:29:02 -0400 (Fri, 15 Aug 2025) EllapsedTime: 62.5 seconds RetCode: 0 Status: OK PackageFile: HiCDOC_1.11.2.zip PackageFileSize: 3.316 MiB