Package: HiCDOC Version: 1.11.1 Command: /Library/Frameworks/R.framework/Resources/bin/R CMD check --install=check:HiCDOC.install-out.txt --library=/Library/Frameworks/R.framework/Resources/library --no-vignettes --timings HiCDOC_1.11.1.tar.gz StartedAt: 2025-07-01 19:38:23 -0400 (Tue, 01 Jul 2025) EndedAt: 2025-07-01 19:41:11 -0400 (Tue, 01 Jul 2025) EllapsedTime: 168.1 seconds RetCode: 0 Status: OK CheckDir: HiCDOC.Rcheck Warnings: 0