Package: HiCDOC Version: 1.11.1 Command: /Library/Frameworks/R.framework/Resources/bin/R CMD build --keep-empty-dirs --no-resave-data HiCDOC StartedAt: 2025-07-01 16:34:25 -0400 (Tue, 01 Jul 2025) EndedAt: 2025-07-01 16:35:34 -0400 (Tue, 01 Jul 2025) EllapsedTime: 68.8 seconds RetCode: 0 Status: OK PackageFile: HiCDOC_1.11.1.tar.gz PackageFileSize: 3.542 MiB