Package: HiCDOC Version: 1.11.1 Command: rm -rf HiCDOC.buildbin-libdir && mkdir HiCDOC.buildbin-libdir && /Users/biocbuild/BBS/utils/build-universal.sh HiCDOC_1.11.1.tar.gz /Library/Frameworks/R.framework/Resources/bin/R HiCDOC.buildbin-libdir StartedAt: 2025-07-01 22:21:50 -0400 (Tue, 01 Jul 2025) EndedAt: 2025-07-01 22:22:07 -0400 (Tue, 01 Jul 2025) EllapsedTime: 16.4 seconds RetCode: 0 Status: OK PackageFile: HiCDOC_1.11.1.tgz PackageFileSize: 3.529 MiB