Package: HiCBricks Version: 1.27.0 Command: /home/biocbuild/R/R/bin/R CMD check --install=check:HiCBricks.install-out.txt --library=/home/biocbuild/R/R/site-library --no-vignettes --timings HiCBricks_1.27.0.tar.gz StartedAt: 2025-07-11 09:07:35 -0000 (Fri, 11 Jul 2025) EndedAt: 2025-07-11 09:11:51 -0000 (Fri, 11 Jul 2025) EllapsedTime: 256.2 seconds RetCode: 0 Status: OK CheckDir: HiCBricks.Rcheck Warnings: 0