Package: HiCBricks Version: 1.27.0 Command: chmod a+r HiCBricks -R && F:\biocbuild\bbs-3.22-bioc\R\bin\R.exe CMD build --keep-empty-dirs --no-resave-data HiCBricks StartedAt: 2025-07-14 19:37:30 -0400 (Mon, 14 Jul 2025) EndedAt: 2025-07-14 19:40:17 -0400 (Mon, 14 Jul 2025) EllapsedTime: 166.6 seconds RetCode: 0 Status: OK PackageFile: HiCBricks_1.27.0.tar.gz PackageFileSize: 4.406 MiB