Package: HiCBricks Version: 1.27.0 Command: /home/biocbuild/bbs-3.22-bioc/R/bin/R CMD INSTALL HiCBricks StartedAt: 2025-07-15 15:14:25 -0400 (Tue, 15 Jul 2025) EndedAt: 2025-07-15 15:14:41 -0400 (Tue, 15 Jul 2025) EllapsedTime: 16.0 seconds RetCode: 0 Status: OK