Package: HiCBricks Version: 1.27.0 Command: /Library/Frameworks/R.framework/Resources/bin/R CMD INSTALL HiCBricks StartedAt: 2025-06-30 15:16:35 -0400 (Mon, 30 Jun 2025) EndedAt: 2025-06-30 15:16:59 -0400 (Mon, 30 Jun 2025) EllapsedTime: 24.2 seconds RetCode: 0 Status: OK