Package: HiCBricks Version: 1.27.0 Command: rm -rf HiCBricks.buildbin-libdir && mkdir HiCBricks.buildbin-libdir && /Users/biocbuild/BBS/utils/build-universal.sh HiCBricks_1.27.0.tar.gz /Library/Frameworks/R.framework/Resources/bin/R HiCBricks.buildbin-libdir StartedAt: 2025-07-01 00:44:34 -0400 (Tue, 01 Jul 2025) EndedAt: 2025-07-01 00:45:01 -0400 (Tue, 01 Jul 2025) EllapsedTime: 27.8 seconds RetCode: 0 Status: OK PackageFile: HiCBricks_1.27.0.tgz PackageFileSize: 9.092 MiB