Package: HelloRanges Version: 1.35.0 Command: /home/biocbuild/R/R/bin/R CMD check --install=check:HelloRanges.install-out.txt --library=/home/biocbuild/R/R/site-library --no-vignettes --timings HelloRanges_1.35.0.tar.gz StartedAt: 2025-06-27 08:06:57 -0000 (Fri, 27 Jun 2025) EndedAt: 2025-06-27 08:13:51 -0000 (Fri, 27 Jun 2025) EllapsedTime: 414.7 seconds RetCode: 0 Status: OK CheckDir: HelloRanges.Rcheck Warnings: 0