Package: HelloRanges Version: 1.35.0 Command: F:\biocbuild\bbs-3.22-bioc\R\bin\R.exe CMD check --no-multiarch --install=check:HelloRanges.install-out.txt --library=F:\biocbuild\bbs-3.22-bioc\R\library --no-vignettes --timings HelloRanges_1.35.0.tar.gz StartedAt: 2025-07-03 02:56:10 -0400 (Thu, 03 Jul 2025) EndedAt: 2025-07-03 03:02:48 -0400 (Thu, 03 Jul 2025) EllapsedTime: 397.9 seconds RetCode: 0 Status: OK CheckDir: HelloRanges.Rcheck Warnings: 0