Package: HelloRanges Version: 1.35.0 Command: chmod a+r HelloRanges -R && F:\biocbuild\bbs-3.22-bioc\R\bin\R.exe CMD build --keep-empty-dirs --no-resave-data HelloRanges StartedAt: 2025-07-02 19:42:13 -0400 (Wed, 02 Jul 2025) EndedAt: 2025-07-02 20:03:59 -0400 (Wed, 02 Jul 2025) EllapsedTime: 1305.9 seconds RetCode: 0 Status: OK PackageFile: HelloRanges_1.35.0.tar.gz PackageFileSize: 950.9 KiB