Package: HelloRanges Version: 1.35.0 Command: rm -rf HelloRanges.buildbin-libdir && mkdir HelloRanges.buildbin-libdir && F:\biocbuild\bbs-3.22-bioc\R\bin\R.exe CMD INSTALL --build --library=HelloRanges.buildbin-libdir HelloRanges_1.35.0.tar.gz StartedAt: 2025-07-03 09:14:10 -0400 (Thu, 03 Jul 2025) EndedAt: 2025-07-03 09:15:55 -0400 (Thu, 03 Jul 2025) EllapsedTime: 105.8 seconds RetCode: 0 Status: OK PackageFile: HelloRanges_1.35.0.zip PackageFileSize: 977.1 KiB