Package: HelloRanges Version: 1.35.0 Command: rm -rf HelloRanges.buildbin-libdir && mkdir HelloRanges.buildbin-libdir && /Users/biocbuild/BBS/utils/build-universal.sh HelloRanges_1.35.0.tar.gz /Library/Frameworks/R.framework/Resources/bin/R HelloRanges.buildbin-libdir StartedAt: 2025-06-30 00:42:47 -0400 (Mon, 30 Jun 2025) EndedAt: 2025-06-30 00:43:46 -0400 (Mon, 30 Jun 2025) EllapsedTime: 59.0 seconds RetCode: 0 Status: OK PackageFile: HelloRanges_1.35.0.tgz PackageFileSize: 952.7 KiB