Package: HelloRanges Version: 1.35.0 Command: /Library/Frameworks/R.framework/Resources/bin/R CMD check --install=check:HelloRanges.install-out.txt --library=/Library/Frameworks/R.framework/Resources/library --no-vignettes --timings HelloRanges_1.35.0.tar.gz StartedAt: 2025-06-29 19:38:05 -0400 (Sun, 29 Jun 2025) EndedAt: 2025-06-29 19:40:04 -0400 (Sun, 29 Jun 2025) EllapsedTime: 118.5 seconds RetCode: 0 Status: OK CheckDir: HelloRanges.Rcheck Warnings: 0