Package: HelloRanges Version: 1.35.0 Command: /Library/Frameworks/R.framework/Resources/bin/R CMD build --keep-empty-dirs --no-resave-data HelloRanges StartedAt: 2025-06-29 16:35:16 -0400 (Sun, 29 Jun 2025) EndedAt: 2025-06-29 16:36:56 -0400 (Sun, 29 Jun 2025) EllapsedTime: 99.1 seconds RetCode: 0 Status: OK PackageFile: HelloRanges_1.35.0.tar.gz PackageFileSize: 950.9 KiB