Package: HelloRanges Version: 1.35.0 Command: rm -rf HelloRanges.buildbin-libdir && mkdir HelloRanges.buildbin-libdir && /Users/biocbuild/BBS/utils/build-universal.sh HelloRanges_1.35.0.tar.gz /Library/Frameworks/R.framework/Resources/bin/R HelloRanges.buildbin-libdir StartedAt: 2025-06-29 22:20:54 -0400 (Sun, 29 Jun 2025) EndedAt: 2025-06-29 22:21:13 -0400 (Sun, 29 Jun 2025) EllapsedTime: 18.5 seconds RetCode: 0 Status: OK PackageFile: HelloRanges_1.35.0.tgz PackageFileSize: 955 KiB