Package: Heatplus Version: 3.17.0 Command: rm -rf Heatplus.buildbin-libdir && mkdir Heatplus.buildbin-libdir && /Users/biocbuild/BBS/utils/build-universal.sh Heatplus_3.17.0.tar.gz /Library/Frameworks/R.framework/Resources/bin/R Heatplus.buildbin-libdir StartedAt: 2025-10-10 22:43:58 -0400 (Fri, 10 Oct 2025) EndedAt: 2025-10-10 22:44:00 -0400 (Fri, 10 Oct 2025) EllapsedTime: 2.0 seconds RetCode: 0 Status: OK PackageFile: Heatplus_3.17.0.tgz PackageFileSize: 1.264 MiB