Package: Harshlight Version: 1.81.0 Command: /Library/Frameworks/R.framework/Resources/bin/R CMD INSTALL Harshlight StartedAt: 2025-07-01 15:29:44 -0400 (Tue, 01 Jul 2025) EndedAt: 2025-07-01 15:30:02 -0400 (Tue, 01 Jul 2025) EllapsedTime: 17.9 seconds RetCode: 0 Status: OK