Package: Harshlight Version: 1.81.0 Command: /Library/Frameworks/R.framework/Resources/bin/R CMD check --install=check:Harshlight.install-out.txt --library=/Library/Frameworks/R.framework/Resources/library --no-vignettes --timings Harshlight_1.81.0.tar.gz StartedAt: 2025-07-01 21:16:55 -0400 (Tue, 01 Jul 2025) EndedAt: 2025-07-01 21:18:39 -0400 (Tue, 01 Jul 2025) EllapsedTime: 103.6 seconds RetCode: 0 Status: OK CheckDir: Harshlight.Rcheck Warnings: 0