Package: Harshlight Version: 1.81.0 Command: /Library/Frameworks/R.framework/Resources/bin/R CMD build --keep-empty-dirs --no-resave-data Harshlight StartedAt: 2025-07-01 17:15:10 -0400 (Tue, 01 Jul 2025) EndedAt: 2025-07-01 17:15:35 -0400 (Tue, 01 Jul 2025) EllapsedTime: 25.0 seconds RetCode: 0 Status: OK PackageFile: Harshlight_1.81.0.tar.gz PackageFileSize: 267.5 KiB