Package: Harman Version: 1.37.0 Command: F:\biocbuild\bbs-3.22-bioc\R\bin\R.exe CMD check --no-multiarch --install=check:Harman.install-out.txt --library=F:\biocbuild\bbs-3.22-bioc\R\library --no-vignettes --timings Harman_1.37.0.tar.gz StartedAt: 2025-08-15 04:02:25 -0400 (Fri, 15 Aug 2025) EndedAt: 2025-08-15 04:04:18 -0400 (Fri, 15 Aug 2025) EllapsedTime: 112.9 seconds RetCode: 0 Status: WARNINGS CheckDir: Harman.Rcheck Warnings: 1