Package: Harman Version: 1.37.0 Command: chmod a+r Harman -R && F:\biocbuild\bbs-3.22-bioc\R\bin\R.exe CMD build --keep-empty-dirs --no-resave-data Harman StartedAt: 2025-08-14 20:44:03 -0400 (Thu, 14 Aug 2025) EndedAt: 2025-08-14 20:47:49 -0400 (Thu, 14 Aug 2025) EllapsedTime: 226.2 seconds RetCode: 0 Status: OK PackageFile: Harman_1.37.0.tar.gz PackageFileSize: 842.7 KiB