Package: Harman Version: 1.37.0 Command: rm -rf Harman.buildbin-libdir && mkdir Harman.buildbin-libdir && /Users/biocbuild/BBS/utils/build-universal.sh Harman_1.37.0.tar.gz /Library/Frameworks/R.framework/Resources/bin/R Harman.buildbin-libdir StartedAt: 2025-10-03 22:42:03 -0400 (Fri, 03 Oct 2025) EndedAt: 2025-10-03 22:42:08 -0400 (Fri, 03 Oct 2025) EllapsedTime: 5.1 seconds RetCode: 0 Status: OK PackageFile: Harman_1.37.0.tgz PackageFileSize: 2.172 MiB