Package: HVP Version: 0.99.5 Command: /home/biocbuild/R/R/bin/R CMD build --keep-empty-dirs --no-resave-data HVP StartedAt: 2025-10-10 01:23:37 -0000 (Fri, 10 Oct 2025) EndedAt: 2025-10-10 01:24:59 -0000 (Fri, 10 Oct 2025) EllapsedTime: 82.0 seconds RetCode: 0 Status: OK PackageFile: HVP_0.99.5.tar.gz PackageFileSize: 1.17 MiB