Package: HVP Version: 0.99.5 Command: F:\biocbuild\bbs-3.22-bioc\R\bin\R.exe CMD check --no-multiarch --install=check:HVP.install-out.txt --library=F:\biocbuild\bbs-3.22-bioc\R\library --no-vignettes --timings HVP_0.99.5.tar.gz StartedAt: 2025-07-08 02:57:59 -0400 (Tue, 08 Jul 2025) EndedAt: 2025-07-08 02:59:17 -0400 (Tue, 08 Jul 2025) EllapsedTime: 77.5 seconds RetCode: 0 Status: OK CheckDir: HVP.Rcheck Warnings: 0