Package: HTqPCR Version: 1.63.0 Command: /home/biocbuild/R/R/bin/R CMD INSTALL HTqPCR StartedAt: 2025-06-30 20:31:03 -0000 (Mon, 30 Jun 2025) EndedAt: 2025-06-30 20:31:13 -0000 (Mon, 30 Jun 2025) EllapsedTime: 9.9 seconds RetCode: 0 Status: OK