Package: HTqPCR Version: 1.63.0 Command: /home/biocbuild/R/R/bin/R CMD build --keep-empty-dirs --no-resave-data HTqPCR StartedAt: 2025-07-01 00:19:22 -0000 (Tue, 01 Jul 2025) EndedAt: 2025-07-01 00:19:44 -0000 (Tue, 01 Jul 2025) EllapsedTime: 22.0 seconds RetCode: 0 Status: OK PackageFile: HTqPCR_1.63.0.tar.gz PackageFileSize: 2.57 MiB