Package: HPiP Version: 1.15.0 Command: /home/biocbuild/R/R/bin/R CMD build --keep-empty-dirs --no-resave-data HPiP StartedAt: 2025-07-25 01:18:50 -0000 (Fri, 25 Jul 2025) EndedAt: 2025-07-25 01:29:12 -0000 (Fri, 25 Jul 2025) EllapsedTime: 622.3 seconds RetCode: 0 Status: OK PackageFile: HPiP_1.15.0.tar.gz PackageFileSize: 2.856 MiB