Package: HPiP Version: 1.15.0 Command: /home/biocbuild/bbs-3.22-bioc/R/bin/R CMD INSTALL HPiP StartedAt: 2025-07-14 15:09:23 -0400 (Mon, 14 Jul 2025) EndedAt: 2025-07-14 15:09:35 -0400 (Mon, 14 Jul 2025) EllapsedTime: 12.2 seconds RetCode: 0 Status: OK