Package: HPiP Version: 1.15.0 Command: /home/biocbuild/bbs-3.22-bioc/R/bin/R CMD check --install=check:HPiP.install-out.txt --library=/home/biocbuild/bbs-3.22-bioc/R/site-library --timings HPiP_1.15.0.tar.gz StartedAt: 2025-07-14 23:12:21 -0400 (Mon, 14 Jul 2025) EndedAt: 2025-07-14 23:27:59 -0400 (Mon, 14 Jul 2025) EllapsedTime: 938.0 seconds RetCode: 0 Status: OK CheckDir: HPiP.Rcheck Warnings: 0