Package: HPiP Version: 1.15.0 Command: /Library/Frameworks/R.framework/Resources/bin/R CMD check --install=check:HPiP.install-out.txt --library=/Library/Frameworks/R.framework/Resources/library --no-vignettes --timings HPiP_1.15.0.tar.gz StartedAt: 2025-07-21 19:43:37 -0400 (Mon, 21 Jul 2025) EndedAt: 2025-07-21 19:46:53 -0400 (Mon, 21 Jul 2025) EllapsedTime: 196.4 seconds RetCode: 0 Status: OK CheckDir: HPiP.Rcheck Warnings: 0