Package: HPAanalyze Version: 1.27.2 Command: /home/biocbuild/R/R/bin/R CMD check --install=check:HPAanalyze.install-out.txt --library=/home/biocbuild/R/R/site-library --no-vignettes --timings HPAanalyze_1.27.2.tar.gz StartedAt: 2025-07-15 08:30:39 -0000 (Tue, 15 Jul 2025) EndedAt: 2025-07-15 08:32:02 -0000 (Tue, 15 Jul 2025) EllapsedTime: 83.1 seconds RetCode: 0 Status: OK CheckDir: HPAanalyze.Rcheck Warnings: 0