Package: HPAanalyze Version: 1.27.2 Command: /home/biocbuild/R/R/bin/R CMD build --keep-empty-dirs --no-resave-data HPAanalyze StartedAt: 2025-07-15 00:18:40 -0000 (Tue, 15 Jul 2025) EndedAt: 2025-07-15 00:19:45 -0000 (Tue, 15 Jul 2025) EllapsedTime: 65.0 seconds RetCode: 0 Status: OK PackageFile: HPAanalyze_1.27.2.tar.gz PackageFileSize: 2.429 MiB