Package: HPAanalyze Version: 1.27.2 Command: F:\biocbuild\bbs-3.22-bioc\R\bin\R.exe CMD INSTALL HPAanalyze StartedAt: 2025-07-24 15:36:47 -0400 (Thu, 24 Jul 2025) EndedAt: 2025-07-24 15:37:20 -0400 (Thu, 24 Jul 2025) EllapsedTime: 33.5 seconds RetCode: 0 Status: OK